BEGIN:VCALENDAR
VERSION:2.0
BEGIN:VEVENT
DTSTART;TZID=Europe/Stockholm:20260323T000000
DTEND;TZID=Europe/Stockholm:20260323T240000
DTSTAMP:20260421T113126
DESCRIPTION:Inbjudan till tomt- och vägföreningens medlemmar att ställa frågor om arbetet med den lokala elledningen.
SEQUENCE:0
SUMMARY:Frågestund Vattenfall, ladan
UID:3864@lawebb.se
END:VEVENT
END:VCALENDAR